BEGIN:VCALENDAR
VERSION:2.0
PRODID:-//The UBC AMS Sexual Assault Support Center (SASC) - ECPv6.15.20//NONSGML v1.0//EN
CALSCALE:GREGORIAN
METHOD:PUBLISH
X-WR-CALNAME:The UBC AMS Sexual Assault Support Center (SASC)
X-ORIGINAL-URL:https://www.amssasc.ca
X-WR-CALDESC:Events for The UBC AMS Sexual Assault Support Center (SASC)
REFRESH-INTERVAL;VALUE=DURATION:PT1H
X-Robots-Tag:noindex
X-PUBLISHED-TTL:PT1H
BEGIN:VTIMEZONE
TZID:America/Vancouver
BEGIN:DAYLIGHT
TZOFFSETFROM:-0800
TZOFFSETTO:-0700
TZNAME:PDT
DTSTART:20220313T100000
END:DAYLIGHT
BEGIN:STANDARD
TZOFFSETFROM:-0700
TZOFFSETTO:-0800
TZNAME:PST
DTSTART:20221106T090000
END:STANDARD
BEGIN:DAYLIGHT
TZOFFSETFROM:-0800
TZOFFSETTO:-0700
TZNAME:PDT
DTSTART:20230312T100000
END:DAYLIGHT
BEGIN:STANDARD
TZOFFSETFROM:-0700
TZOFFSETTO:-0800
TZNAME:PST
DTSTART:20231105T090000
END:STANDARD
BEGIN:DAYLIGHT
TZOFFSETFROM:-0800
TZOFFSETTO:-0700
TZNAME:PDT
DTSTART:20240310T100000
END:DAYLIGHT
BEGIN:STANDARD
TZOFFSETFROM:-0700
TZOFFSETTO:-0800
TZNAME:PST
DTSTART:20241103T090000
END:STANDARD
END:VTIMEZONE
BEGIN:VEVENT
DTSTART;TZID=America/Vancouver:20230915T140000
DTEND;TZID=America/Vancouver:20230915T190000
DTSTAMP:20260420T020429
CREATED:20230902T014715Z
LAST-MODIFIED:20230902T014715Z
UID:10000212-1694786400-1694804400@www.amssasc.ca
SUMMARY:Community Boothing: Welcome Back BBQ
DESCRIPTION:Come visit us one of our booths throughout the academic year to learn more about the SASC and how we approach anti-violence work through support and education. Highlights also include candy\, buttons\, stickers\, and trivia!
URL:https://www.amssasc.ca/event/community-boothing-welcome-back-bbq/
LOCATION:Plaza outside the AMS Nest\, 6133 University Blvd\, Vancouver\, BC
END:VEVENT
END:VCALENDAR