BEGIN:VCALENDAR
VERSION:2.0
PRODID:-//The UBC AMS Sexual Assault Support Center (SASC) - ECPv6.15.20//NONSGML v1.0//EN
CALSCALE:GREGORIAN
METHOD:PUBLISH
X-ORIGINAL-URL:https://www.amssasc.ca
X-WR-CALDESC:Events for The UBC AMS Sexual Assault Support Center (SASC)
REFRESH-INTERVAL;VALUE=DURATION:PT1H
X-Robots-Tag:noindex
X-PUBLISHED-TTL:PT1H
BEGIN:VTIMEZONE
TZID:America/Vancouver
BEGIN:DAYLIGHT
TZOFFSETFROM:-0800
TZOFFSETTO:-0700
TZNAME:PDT
DTSTART:20220313T100000
END:DAYLIGHT
BEGIN:STANDARD
TZOFFSETFROM:-0700
TZOFFSETTO:-0800
TZNAME:PST
DTSTART:20221106T090000
END:STANDARD
BEGIN:DAYLIGHT
TZOFFSETFROM:-0800
TZOFFSETTO:-0700
TZNAME:PDT
DTSTART:20230312T100000
END:DAYLIGHT
BEGIN:STANDARD
TZOFFSETFROM:-0700
TZOFFSETTO:-0800
TZNAME:PST
DTSTART:20231105T090000
END:STANDARD
BEGIN:DAYLIGHT
TZOFFSETFROM:-0800
TZOFFSETTO:-0700
TZNAME:PDT
DTSTART:20240310T100000
END:DAYLIGHT
BEGIN:STANDARD
TZOFFSETFROM:-0700
TZOFFSETTO:-0800
TZNAME:PST
DTSTART:20241103T090000
END:STANDARD
BEGIN:DAYLIGHT
TZOFFSETFROM:-0800
TZOFFSETTO:-0700
TZNAME:PDT
DTSTART:20250309T100000
END:DAYLIGHT
BEGIN:STANDARD
TZOFFSETFROM:-0700
TZOFFSETTO:-0800
TZNAME:PST
DTSTART:20251102T090000
END:STANDARD
END:VTIMEZONE
BEGIN:VEVENT
DTSTART;TZID=America/Vancouver:20241119T183000
DTEND;TZID=America/Vancouver:20241119T193000
DTSTAMP:20260421T060413
CREATED:20240808T194834Z
LAST-MODIFIED:20240808T194834Z
UID:10000247-1732041000-1732044600@www.amssasc.ca
SUMMARY:Men's Circle
DESCRIPTION:Men’s Circles are drop-in dialogue sessions built around shared experience and knowledge.  \nThis year’s discussions will cover open-ended topics like femininity\, puberty\, academics\, boundaries\, and more. This is an open space for learning and dialogue where no specific knowledge is necessary to participate. \nHave any questions? Come by one of our booths in September or email sasc@ams.ubc.ca. To sign up for our healthier masculinities email list\, RSVP here: https://forms.gle/vPf3DaxXgxuKiJC7A  
URL:https://www.amssasc.ca/event/mens-circle-2/2024-11-19/
LOCATION:AMS Nest Room 2508\, 6133 University Blvd\, Vancouver\, BC
END:VEVENT
BEGIN:VEVENT
DTSTART;TZID=America/Vancouver:20241105T183000
DTEND;TZID=America/Vancouver:20241105T193000
DTSTAMP:20260421T060413
CREATED:20240808T194834Z
LAST-MODIFIED:20240808T194834Z
UID:10000246-1730831400-1730835000@www.amssasc.ca
SUMMARY:Men's Circle
DESCRIPTION:Men’s Circles are drop-in dialogue sessions built around shared experience and knowledge.  \nThis year’s discussions will cover open-ended topics like femininity\, puberty\, academics\, boundaries\, and more. This is an open space for learning and dialogue where no specific knowledge is necessary to participate. \nHave any questions? Come by one of our booths in September or email sasc@ams.ubc.ca. To sign up for our healthier masculinities email list\, RSVP here: https://forms.gle/vPf3DaxXgxuKiJC7A  
URL:https://www.amssasc.ca/event/mens-circle-2/2024-11-05/
LOCATION:AMS Nest Room 2508\, 6133 University Blvd\, Vancouver\, BC
END:VEVENT
BEGIN:VEVENT
DTSTART;TZID=America/Vancouver:20241029T183000
DTEND;TZID=America/Vancouver:20241029T193000
DTSTAMP:20260421T060413
CREATED:20240808T194834Z
LAST-MODIFIED:20240808T194834Z
UID:10000245-1730226600-1730230200@www.amssasc.ca
SUMMARY:Men's Circle
DESCRIPTION:Men’s Circles are drop-in dialogue sessions built around shared experience and knowledge.  \nThis year’s discussions will cover open-ended topics like femininity\, puberty\, academics\, boundaries\, and more. This is an open space for learning and dialogue where no specific knowledge is necessary to participate. \nHave any questions? Come by one of our booths in September or email sasc@ams.ubc.ca. To sign up for our healthier masculinities email list\, RSVP here: https://forms.gle/vPf3DaxXgxuKiJC7A  
URL:https://www.amssasc.ca/event/mens-circle-2/2024-10-29/
LOCATION:AMS Nest Room 2508\, 6133 University Blvd\, Vancouver\, BC
END:VEVENT
BEGIN:VEVENT
DTSTART;TZID=America/Vancouver:20241022T183000
DTEND;TZID=America/Vancouver:20241022T193000
DTSTAMP:20260421T060413
CREATED:20240808T194834Z
LAST-MODIFIED:20240808T194834Z
UID:10000244-1729621800-1729625400@www.amssasc.ca
SUMMARY:Men's Circle
DESCRIPTION:Men’s Circles are drop-in dialogue sessions built around shared experience and knowledge.  \nThis year’s discussions will cover open-ended topics like femininity\, puberty\, academics\, boundaries\, and more. This is an open space for learning and dialogue where no specific knowledge is necessary to participate. \nHave any questions? Come by one of our booths in September or email sasc@ams.ubc.ca. To sign up for our healthier masculinities email list\, RSVP here: https://forms.gle/vPf3DaxXgxuKiJC7A  
URL:https://www.amssasc.ca/event/mens-circle-2/2024-10-22/
LOCATION:AMS Nest Room 2508\, 6133 University Blvd\, Vancouver\, BC
END:VEVENT
BEGIN:VEVENT
DTSTART;TZID=America/Vancouver:20241015T183000
DTEND;TZID=America/Vancouver:20241015T193000
DTSTAMP:20260421T060413
CREATED:20240808T194834Z
LAST-MODIFIED:20240808T194834Z
UID:10000243-1729017000-1729020600@www.amssasc.ca
SUMMARY:Men's Circle
DESCRIPTION:Men’s Circles are drop-in dialogue sessions built around shared experience and knowledge.  \nThis year’s discussions will cover open-ended topics like femininity\, puberty\, academics\, boundaries\, and more. This is an open space for learning and dialogue where no specific knowledge is necessary to participate. \nHave any questions? Come by one of our booths in September or email sasc@ams.ubc.ca. To sign up for our healthier masculinities email list\, RSVP here: https://forms.gle/vPf3DaxXgxuKiJC7A  
URL:https://www.amssasc.ca/event/mens-circle-2/2024-10-15/
LOCATION:AMS Nest Room 2508\, 6133 University Blvd\, Vancouver\, BC
END:VEVENT
BEGIN:VEVENT
DTSTART;TZID=America/Vancouver:20241008T183000
DTEND;TZID=America/Vancouver:20241008T193000
DTSTAMP:20260421T060413
CREATED:20240808T194834Z
LAST-MODIFIED:20240808T194834Z
UID:10000242-1728412200-1728415800@www.amssasc.ca
SUMMARY:Men's Circle
DESCRIPTION:Men’s Circles are drop-in dialogue sessions built around shared experience and knowledge.  \nThis year’s discussions will cover open-ended topics like femininity\, puberty\, academics\, boundaries\, and more. This is an open space for learning and dialogue where no specific knowledge is necessary to participate. \nHave any questions? Come by one of our booths in September or email sasc@ams.ubc.ca. To sign up for our healthier masculinities email list\, RSVP here: https://forms.gle/vPf3DaxXgxuKiJC7A  
URL:https://www.amssasc.ca/event/mens-circle-2/2024-10-08/
LOCATION:AMS Nest Room 2508\, 6133 University Blvd\, Vancouver\, BC
END:VEVENT
BEGIN:VEVENT
DTSTART;TZID=America/Vancouver:20240326T183000
DTEND;TZID=America/Vancouver:20240326T193000
DTSTAMP:20260421T060413
CREATED:20231229T222622Z
LAST-MODIFIED:20231229T222622Z
UID:10000229-1711477800-1711481400@www.amssasc.ca
SUMMARY:Men's Circle
DESCRIPTION:Click here to to RSVP for Events and Men’s Circles throughout Spring 2024! Be sure to follow @ams.sasc.ubc on instagram for our latest updates- any other questions and comments can be directed to LukeForrester@ams.ubc.ca \nMen’s Circle is a dialogue group where men share their experiences\, challenges\, and wins related to a set of topics. Past discussions have included: mental health and suicidality\, navigating relationships\, substance use\, masculinity in the media\, and more. This is an open space for learning and dialogue- no specific knowledge is necessary to participate.
URL:https://www.amssasc.ca/event/mens-circle/2024-03-26/
LOCATION:AMS Nest Room 2508\, 6133 University Blvd\, Vancouver\, BC
END:VEVENT
BEGIN:VEVENT
DTSTART;TZID=America/Vancouver:20240319T183000
DTEND;TZID=America/Vancouver:20240319T193000
DTSTAMP:20260421T060413
CREATED:20231229T222622Z
LAST-MODIFIED:20231229T222622Z
UID:10000228-1710873000-1710876600@www.amssasc.ca
SUMMARY:Men's Circle
DESCRIPTION:Click here to to RSVP for Events and Men’s Circles throughout Spring 2024! Be sure to follow @ams.sasc.ubc on instagram for our latest updates- any other questions and comments can be directed to LukeForrester@ams.ubc.ca \nMen’s Circle is a dialogue group where men share their experiences\, challenges\, and wins related to a set of topics. Past discussions have included: mental health and suicidality\, navigating relationships\, substance use\, masculinity in the media\, and more. This is an open space for learning and dialogue- no specific knowledge is necessary to participate.
URL:https://www.amssasc.ca/event/mens-circle/2024-03-19/
LOCATION:AMS Nest Room 2508\, 6133 University Blvd\, Vancouver\, BC
END:VEVENT
BEGIN:VEVENT
DTSTART;TZID=America/Vancouver:20240312T183000
DTEND;TZID=America/Vancouver:20240312T193000
DTSTAMP:20260421T060413
CREATED:20231229T222622Z
LAST-MODIFIED:20231229T222622Z
UID:10000227-1710268200-1710271800@www.amssasc.ca
SUMMARY:Men's Circle
DESCRIPTION:Click here to to RSVP for Events and Men’s Circles throughout Spring 2024! Be sure to follow @ams.sasc.ubc on instagram for our latest updates- any other questions and comments can be directed to LukeForrester@ams.ubc.ca \nMen’s Circle is a dialogue group where men share their experiences\, challenges\, and wins related to a set of topics. Past discussions have included: mental health and suicidality\, navigating relationships\, substance use\, masculinity in the media\, and more. This is an open space for learning and dialogue- no specific knowledge is necessary to participate.
URL:https://www.amssasc.ca/event/mens-circle/2024-03-12/
LOCATION:AMS Nest Room 2508\, 6133 University Blvd\, Vancouver\, BC
END:VEVENT
BEGIN:VEVENT
DTSTART;TZID=America/Vancouver:20240305T183000
DTEND;TZID=America/Vancouver:20240305T193000
DTSTAMP:20260421T060413
CREATED:20231229T222622Z
LAST-MODIFIED:20231229T222622Z
UID:10000226-1709663400-1709667000@www.amssasc.ca
SUMMARY:Men's Circle
DESCRIPTION:Click here to to RSVP for Events and Men’s Circles throughout Spring 2024! Be sure to follow @ams.sasc.ubc on instagram for our latest updates- any other questions and comments can be directed to LukeForrester@ams.ubc.ca \nMen’s Circle is a dialogue group where men share their experiences\, challenges\, and wins related to a set of topics. Past discussions have included: mental health and suicidality\, navigating relationships\, substance use\, masculinity in the media\, and more. This is an open space for learning and dialogue- no specific knowledge is necessary to participate.
URL:https://www.amssasc.ca/event/mens-circle/2024-03-05/
LOCATION:AMS Nest Room 2508\, 6133 University Blvd\, Vancouver\, BC
END:VEVENT
BEGIN:VEVENT
DTSTART;TZID=America/Vancouver:20240227T183000
DTEND;TZID=America/Vancouver:20240227T193000
DTSTAMP:20260421T060413
CREATED:20231229T222622Z
LAST-MODIFIED:20231229T222622Z
UID:10000225-1709058600-1709062200@www.amssasc.ca
SUMMARY:Men's Circle
DESCRIPTION:Click here to to RSVP for Events and Men’s Circles throughout Spring 2024! Be sure to follow @ams.sasc.ubc on instagram for our latest updates- any other questions and comments can be directed to LukeForrester@ams.ubc.ca \nMen’s Circle is a dialogue group where men share their experiences\, challenges\, and wins related to a set of topics. Past discussions have included: mental health and suicidality\, navigating relationships\, substance use\, masculinity in the media\, and more. This is an open space for learning and dialogue- no specific knowledge is necessary to participate.
URL:https://www.amssasc.ca/event/mens-circle/2024-02-27/
LOCATION:AMS Nest Room 2508\, 6133 University Blvd\, Vancouver\, BC
END:VEVENT
BEGIN:VEVENT
DTSTART;TZID=America/Vancouver:20240220T183000
DTEND;TZID=America/Vancouver:20240220T193000
DTSTAMP:20260421T060413
CREATED:20231229T222622Z
LAST-MODIFIED:20231229T222622Z
UID:10000224-1708453800-1708457400@www.amssasc.ca
SUMMARY:Men's Circle
DESCRIPTION:Click here to to RSVP for Events and Men’s Circles throughout Spring 2024! Be sure to follow @ams.sasc.ubc on instagram for our latest updates- any other questions and comments can be directed to LukeForrester@ams.ubc.ca \nMen’s Circle is a dialogue group where men share their experiences\, challenges\, and wins related to a set of topics. Past discussions have included: mental health and suicidality\, navigating relationships\, substance use\, masculinity in the media\, and more. This is an open space for learning and dialogue- no specific knowledge is necessary to participate.
URL:https://www.amssasc.ca/event/mens-circle/2024-02-20/
LOCATION:AMS Nest Room 2508\, 6133 University Blvd\, Vancouver\, BC
END:VEVENT
BEGIN:VEVENT
DTSTART;TZID=America/Vancouver:20240213T183000
DTEND;TZID=America/Vancouver:20240213T193000
DTSTAMP:20260421T060413
CREATED:20231229T222622Z
LAST-MODIFIED:20231229T222622Z
UID:10000223-1707849000-1707852600@www.amssasc.ca
SUMMARY:Men's Circle
DESCRIPTION:Click here to to RSVP for Events and Men’s Circles throughout Spring 2024! Be sure to follow @ams.sasc.ubc on instagram for our latest updates- any other questions and comments can be directed to LukeForrester@ams.ubc.ca \nMen’s Circle is a dialogue group where men share their experiences\, challenges\, and wins related to a set of topics. Past discussions have included: mental health and suicidality\, navigating relationships\, substance use\, masculinity in the media\, and more. This is an open space for learning and dialogue- no specific knowledge is necessary to participate.
URL:https://www.amssasc.ca/event/mens-circle/2024-02-13/
LOCATION:AMS Nest Room 2508\, 6133 University Blvd\, Vancouver\, BC
END:VEVENT
BEGIN:VEVENT
DTSTART;TZID=America/Vancouver:20240130T183000
DTEND;TZID=America/Vancouver:20240130T193000
DTSTAMP:20260421T060413
CREATED:20231229T222622Z
LAST-MODIFIED:20231229T222622Z
UID:10000222-1706639400-1706643000@www.amssasc.ca
SUMMARY:Men's Circle
DESCRIPTION:Click here to to RSVP for Events and Men’s Circles throughout Spring 2024! Be sure to follow @ams.sasc.ubc on instagram for our latest updates- any other questions and comments can be directed to LukeForrester@ams.ubc.ca \nMen’s Circle is a dialogue group where men share their experiences\, challenges\, and wins related to a set of topics. Past discussions have included: mental health and suicidality\, navigating relationships\, substance use\, masculinity in the media\, and more. This is an open space for learning and dialogue- no specific knowledge is necessary to participate.
URL:https://www.amssasc.ca/event/mens-circle/2024-01-30/
LOCATION:AMS Nest Room 2508\, 6133 University Blvd\, Vancouver\, BC
END:VEVENT
BEGIN:VEVENT
DTSTART;TZID=America/Vancouver:20231109T183000
DTEND;TZID=America/Vancouver:20231109T193000
DTSTAMP:20260421T060413
CREATED:20230902T013254Z
LAST-MODIFIED:20231013T223449Z
UID:10000157-1699554600-1699558200@www.amssasc.ca
SUMMARY:Healthier Masculinities: Men's Circle Group
DESCRIPTION:Men’s Circle is a dialogue group where men share their experiences\, challenges\, and wins related to a set of topics. This is an open space for learning and dialogue- no specific knowledge is necessary to participate. Each meeting will begin with a question of the day based on recent newsworthy events\, before transitioning into our discussion topic. Food will be provided! \nTopics for this term include: \n\nOctober 5th: Online Communities\nOctober 12th: Dating and Relationships\nOctober 19th: Kinship and Community\nOctober 26th: Body Image and Stereotypes\nNovember 2nd: Mental Health\nNovember 9th: Responsibilities and Community Leadership\n\nFeel free to drop by and fill out this Google Form to RSVP for reminders.
URL:https://www.amssasc.ca/event/healthier-masculinities-mens-circle-group/2023-11-09/
LOCATION:AMS Nest Room 2508\, 6133 University Blvd\, Vancouver\, BC
END:VEVENT
BEGIN:VEVENT
DTSTART;TZID=America/Vancouver:20231102T183000
DTEND;TZID=America/Vancouver:20231102T193000
DTSTAMP:20260421T060413
CREATED:20230902T013254Z
LAST-MODIFIED:20231013T223449Z
UID:10000156-1698949800-1698953400@www.amssasc.ca
SUMMARY:Healthier Masculinities: Men's Circle Group
DESCRIPTION:Men’s Circle is a dialogue group where men share their experiences\, challenges\, and wins related to a set of topics. This is an open space for learning and dialogue- no specific knowledge is necessary to participate. Each meeting will begin with a question of the day based on recent newsworthy events\, before transitioning into our discussion topic. Food will be provided! \nTopics for this term include: \n\nOctober 5th: Online Communities\nOctober 12th: Dating and Relationships\nOctober 19th: Kinship and Community\nOctober 26th: Body Image and Stereotypes\nNovember 2nd: Mental Health\nNovember 9th: Responsibilities and Community Leadership\n\nFeel free to drop by and fill out this Google Form to RSVP for reminders.
URL:https://www.amssasc.ca/event/healthier-masculinities-mens-circle-group/2023-11-02/
LOCATION:AMS Nest Room 2508\, 6133 University Blvd\, Vancouver\, BC
END:VEVENT
BEGIN:VEVENT
DTSTART;TZID=America/Vancouver:20231026T183000
DTEND;TZID=America/Vancouver:20231026T193000
DTSTAMP:20260421T060413
CREATED:20230902T013254Z
LAST-MODIFIED:20231013T223449Z
UID:10000155-1698345000-1698348600@www.amssasc.ca
SUMMARY:Healthier Masculinities: Men's Circle Group
DESCRIPTION:Men’s Circle is a dialogue group where men share their experiences\, challenges\, and wins related to a set of topics. This is an open space for learning and dialogue- no specific knowledge is necessary to participate. Each meeting will begin with a question of the day based on recent newsworthy events\, before transitioning into our discussion topic. Food will be provided! \nTopics for this term include: \n\nOctober 5th: Online Communities\nOctober 12th: Dating and Relationships\nOctober 19th: Kinship and Community\nOctober 26th: Body Image and Stereotypes\nNovember 2nd: Mental Health\nNovember 9th: Responsibilities and Community Leadership\n\nFeel free to drop by and fill out this Google Form to RSVP for reminders.
URL:https://www.amssasc.ca/event/healthier-masculinities-mens-circle-group/2023-10-26/
LOCATION:AMS Nest Room 2508\, 6133 University Blvd\, Vancouver\, BC
END:VEVENT
BEGIN:VEVENT
DTSTART;TZID=America/Vancouver:20231019T183000
DTEND;TZID=America/Vancouver:20231019T193000
DTSTAMP:20260421T060413
CREATED:20230902T013254Z
LAST-MODIFIED:20231013T223449Z
UID:10000154-1697740200-1697743800@www.amssasc.ca
SUMMARY:Healthier Masculinities: Men's Circle Group
DESCRIPTION:Men’s Circle is a dialogue group where men share their experiences\, challenges\, and wins related to a set of topics. This is an open space for learning and dialogue- no specific knowledge is necessary to participate. Each meeting will begin with a question of the day based on recent newsworthy events\, before transitioning into our discussion topic. Food will be provided! \nTopics for this term include: \n\nOctober 5th: Online Communities\nOctober 12th: Dating and Relationships\nOctober 19th: Kinship and Community\nOctober 26th: Body Image and Stereotypes\nNovember 2nd: Mental Health\nNovember 9th: Responsibilities and Community Leadership\n\nFeel free to drop by and fill out this Google Form to RSVP for reminders.
URL:https://www.amssasc.ca/event/healthier-masculinities-mens-circle-group/2023-10-19/
LOCATION:AMS Nest Room 2508\, 6133 University Blvd\, Vancouver\, BC
END:VEVENT
BEGIN:VEVENT
DTSTART;TZID=America/Vancouver:20231012T183000
DTEND;TZID=America/Vancouver:20231012T193000
DTSTAMP:20260421T060413
CREATED:20230902T013254Z
LAST-MODIFIED:20231013T223449Z
UID:10000153-1697135400-1697139000@www.amssasc.ca
SUMMARY:Healthier Masculinities: Men's Circle Group
DESCRIPTION:Men’s Circle is a dialogue group where men share their experiences\, challenges\, and wins related to a set of topics. This is an open space for learning and dialogue- no specific knowledge is necessary to participate. Each meeting will begin with a question of the day based on recent newsworthy events\, before transitioning into our discussion topic. Food will be provided! \nTopics for this term include: \n\nOctober 5th: Online Communities\nOctober 12th: Dating and Relationships\nOctober 19th: Kinship and Community\nOctober 26th: Body Image and Stereotypes\nNovember 2nd: Mental Health\nNovember 9th: Responsibilities and Community Leadership\n\nFeel free to drop by and fill out this Google Form to RSVP for reminders.
URL:https://www.amssasc.ca/event/healthier-masculinities-mens-circle-group/2023-10-12/
LOCATION:AMS Nest Room 2508\, 6133 University Blvd\, Vancouver\, BC
END:VEVENT
BEGIN:VEVENT
DTSTART;TZID=America/Vancouver:20231005T183000
DTEND;TZID=America/Vancouver:20231005T193000
DTSTAMP:20260421T060413
CREATED:20230902T013254Z
LAST-MODIFIED:20231013T223449Z
UID:10000152-1696530600-1696534200@www.amssasc.ca
SUMMARY:Healthier Masculinities: Men's Circle Group
DESCRIPTION:Men’s Circle is a dialogue group where men share their experiences\, challenges\, and wins related to a set of topics. This is an open space for learning and dialogue- no specific knowledge is necessary to participate. Each meeting will begin with a question of the day based on recent newsworthy events\, before transitioning into our discussion topic. Food will be provided! \nTopics for this term include: \n\nOctober 5th: Online Communities\nOctober 12th: Dating and Relationships\nOctober 19th: Kinship and Community\nOctober 26th: Body Image and Stereotypes\nNovember 2nd: Mental Health\nNovember 9th: Responsibilities and Community Leadership\n\nFeel free to drop by and fill out this Google Form to RSVP for reminders.
URL:https://www.amssasc.ca/event/healthier-masculinities-mens-circle-group/2023-10-05/
LOCATION:AMS Nest Room 2508\, 6133 University Blvd\, Vancouver\, BC
END:VEVENT
END:VCALENDAR