BEGIN:VCALENDAR
VERSION:2.0
PRODID:-//The UBC AMS Sexual Assault Support Center (SASC) - ECPv6.15.20//NONSGML v1.0//EN
CALSCALE:GREGORIAN
METHOD:PUBLISH
X-ORIGINAL-URL:https://www.amssasc.ca
X-WR-CALDESC:Events for The UBC AMS Sexual Assault Support Center (SASC)
REFRESH-INTERVAL;VALUE=DURATION:PT1H
X-Robots-Tag:noindex
X-PUBLISHED-TTL:PT1H
BEGIN:VTIMEZONE
TZID:America/Vancouver
BEGIN:DAYLIGHT
TZOFFSETFROM:-0800
TZOFFSETTO:-0700
TZNAME:PDT
DTSTART:20230312T100000
END:DAYLIGHT
BEGIN:STANDARD
TZOFFSETFROM:-0700
TZOFFSETTO:-0800
TZNAME:PST
DTSTART:20231105T090000
END:STANDARD
BEGIN:DAYLIGHT
TZOFFSETFROM:-0800
TZOFFSETTO:-0700
TZNAME:PDT
DTSTART:20240310T100000
END:DAYLIGHT
BEGIN:STANDARD
TZOFFSETFROM:-0700
TZOFFSETTO:-0800
TZNAME:PST
DTSTART:20241103T090000
END:STANDARD
BEGIN:DAYLIGHT
TZOFFSETFROM:-0800
TZOFFSETTO:-0700
TZNAME:PDT
DTSTART:20250309T100000
END:DAYLIGHT
BEGIN:STANDARD
TZOFFSETFROM:-0700
TZOFFSETTO:-0800
TZNAME:PST
DTSTART:20251102T090000
END:STANDARD
END:VTIMEZONE
BEGIN:VEVENT
DTSTART;TZID=America/Vancouver:20241017T173000
DTEND;TZID=America/Vancouver:20241017T200000
DTSTAMP:20260420T133701
CREATED:20241002T222638Z
LAST-MODIFIED:20241002T222638Z
UID:10000318-1729186200-1729195200@www.amssasc.ca
SUMMARY:"Women Talking" Film Screening
DESCRIPTION:Join us for a free dinner\, screening and discussion of the movie Women Talking\, with a focus on this year’s theme for Sexual Assault Awareness Month: Healing Through Community. \nRSVP Form: https://forms.gle/Uv5T8m3NXxhKPoVEA \nFilm synopsis: When the women of an isolated colony of strictly religious people decide that something must be done to protect their children\, the decision is not easy for a small number of women to make for all of the women: they have to either forgive their attackers\, or stay and fight\, or leave. Based on the 2018 novel by Miriam Toews\, which was loosely based on real-life events that took place at a Bolivian Mennonite colony
URL:https://www.amssasc.ca/event/women-talking-film-screening/
LOCATION:AMS Nest Performance Theatre
END:VEVENT
END:VCALENDAR