BEGIN:VCALENDAR
VERSION:2.0
PRODID:-//The UBC AMS Sexual Assault Support Center (SASC) - ECPv6.15.20//NONSGML v1.0//EN
CALSCALE:GREGORIAN
METHOD:PUBLISH
X-WR-CALNAME:The UBC AMS Sexual Assault Support Center (SASC)
X-ORIGINAL-URL:https://www.amssasc.ca
X-WR-CALDESC:Events for The UBC AMS Sexual Assault Support Center (SASC)
REFRESH-INTERVAL;VALUE=DURATION:PT1H
X-Robots-Tag:noindex
X-PUBLISHED-TTL:PT1H
BEGIN:VTIMEZONE
TZID:America/Vancouver
BEGIN:DAYLIGHT
TZOFFSETFROM:-0800
TZOFFSETTO:-0700
TZNAME:PDT
DTSTART:20230312T100000
END:DAYLIGHT
BEGIN:STANDARD
TZOFFSETFROM:-0700
TZOFFSETTO:-0800
TZNAME:PST
DTSTART:20231105T090000
END:STANDARD
BEGIN:DAYLIGHT
TZOFFSETFROM:-0800
TZOFFSETTO:-0700
TZNAME:PDT
DTSTART:20240310T100000
END:DAYLIGHT
BEGIN:STANDARD
TZOFFSETFROM:-0700
TZOFFSETTO:-0800
TZNAME:PST
DTSTART:20241103T090000
END:STANDARD
BEGIN:DAYLIGHT
TZOFFSETFROM:-0800
TZOFFSETTO:-0700
TZNAME:PDT
DTSTART:20250309T100000
END:DAYLIGHT
BEGIN:STANDARD
TZOFFSETFROM:-0700
TZOFFSETTO:-0800
TZNAME:PST
DTSTART:20251102T090000
END:STANDARD
END:VTIMEZONE
BEGIN:VEVENT
DTSTART;TZID=America/Vancouver:20240229T170000
DTEND;TZID=America/Vancouver:20240229T190000
DTSTAMP:20260424T153822
CREATED:20240228T203107Z
LAST-MODIFIED:20240228T203107Z
UID:10000240-1709226000-1709233200@www.amssasc.ca
SUMMARY:Invisible Violence: Identifying and Overcoming Emotional Abuse
DESCRIPTION:Join us for an eye-opening event on emotional abuse\, a silent yet pervasive form of gender-based violence. Explore its complexities and learn strategies to combat it alongside a supportive community. Together\, let’s raise awareness and empower one another to create a world free from emotional harm. \nWhat to expect: \n💬 Panelists will share personal experiences in a safe environment \n🎤 Guided conversations with insightful panelists \n🗣️ Facilitated discussion on the impacts of emotional abuse \n🌟Interested? \nRSVP: https://ubc.ca1.qualtrics.com/jfe/form/SV_5iI7Pkmin7ZO9JI
URL:https://www.amssasc.ca/event/invisible-violence-identifying-and-overcoming-emotional-abuse/
LOCATION:Global Lounge\, Marine Drive Residence\, 2205 Lower Mall #1\, Vancouver\, BC\, V6T 1Z4\, Canada
END:VEVENT
END:VCALENDAR