BEGIN:VCALENDAR
VERSION:2.0
PRODID:-//The UBC AMS Sexual Assault Support Center (SASC) - ECPv6.15.20//NONSGML v1.0//EN
CALSCALE:GREGORIAN
METHOD:PUBLISH
X-WR-CALNAME:The UBC AMS Sexual Assault Support Center (SASC)
X-ORIGINAL-URL:https://www.amssasc.ca
X-WR-CALDESC:Events for The UBC AMS Sexual Assault Support Center (SASC)
REFRESH-INTERVAL;VALUE=DURATION:PT1H
X-Robots-Tag:noindex
X-PUBLISHED-TTL:PT1H
BEGIN:VTIMEZONE
TZID:America/Vancouver
BEGIN:DAYLIGHT
TZOFFSETFROM:-0800
TZOFFSETTO:-0700
TZNAME:PDT
DTSTART:20240310T100000
END:DAYLIGHT
BEGIN:STANDARD
TZOFFSETFROM:-0700
TZOFFSETTO:-0800
TZNAME:PST
DTSTART:20241103T090000
END:STANDARD
BEGIN:DAYLIGHT
TZOFFSETFROM:-0800
TZOFFSETTO:-0700
TZNAME:PDT
DTSTART:20250309T100000
END:DAYLIGHT
BEGIN:STANDARD
TZOFFSETFROM:-0700
TZOFFSETTO:-0800
TZNAME:PST
DTSTART:20251102T090000
END:STANDARD
BEGIN:DAYLIGHT
TZOFFSETFROM:-0800
TZOFFSETTO:-0700
TZNAME:PDT
DTSTART:20260308T100000
END:DAYLIGHT
BEGIN:STANDARD
TZOFFSETFROM:-0700
TZOFFSETTO:-0800
TZNAME:PST
DTSTART:20261101T090000
END:STANDARD
END:VTIMEZONE
BEGIN:VEVENT
DTSTART;VALUE=DATE:20250228
DTEND;VALUE=DATE:20250312
DTSTAMP:20260423T044035
CREATED:20250113T234549Z
LAST-MODIFIED:20250113T234549Z
UID:10000321-1740700800-1741737599@www.amssasc.ca
SUMMARY:SASC Art Show Exhibition: Towards Resilience
DESCRIPTION:The SASC is launching “Towards Resilience: Celebrating Strength Through Adversity”\, an art exhibition hosted by the Hatch Art Gallery. 🎨🖌️ \nThis exhibition explores the ways in which people find the strength to celebrate their identity in spite of marginalization and societal barriers. We celebrate perspectives from all identities\, whether it be one’s gender\, race\, sexuality\, ability etc.\, but we especially encourage insights about resilience from people with intersecting experiences of marginalization.
URL:https://www.amssasc.ca/event/sasc-art-show-exhibition-towards-resilience/
LOCATION:Hatch Art Gallery\, 6133 University Blvd.\, Vancouver\, BC\, V6T 1Z1\, Canada
END:VEVENT
BEGIN:VEVENT
DTSTART;TZID=America/Vancouver:20250305T170000
DTEND;TZID=America/Vancouver:20250305T190000
DTSTAMP:20260423T044035
CREATED:20240905T175217Z
LAST-MODIFIED:20240905T175217Z
UID:10000274-1741194000-1741201200@www.amssasc.ca
SUMMARY:Roots and Resilience Support Group
DESCRIPTION:Roots & Resilience is a weekly art-based support group for UBC students and community members of all genders who have experienced sexualized violence. This group is facilitated by SASC Support & Advocacy staff\, practicum students\, and/or registered clinical counsellors. \nFor more information go to https://www.amssasc.ca/roots-and-resilience-support-group-2/
URL:https://www.amssasc.ca/event/roots-and-resilience-support-group/2025-03-05/
LOCATION:AMS Nest\, 6133 University Blvd\, Vancouver\, BC
END:VEVENT
END:VCALENDAR